BEGIN:VCALENDAR
VERSION:2.0
PRODID:-//Drax Parish Council//Meeting Calendar//EN
CALSCALE:GREGORIAN
METHOD:PUBLISH
BEGIN:VEVENT
UID:70495-2023-10-24@draxparishcouncil.gov.uk
DTSTAMP:20260419T180314Z
DTSTART;VALUE=DATE:2023-10-24
DTEND;VALUE=DATE:20231025
SUMMARY:Full Council — 24 October 2023
DESCRIPTION:Council Meeting\nView details: https://draxparishcouncil.gov.uk/meetings/full-council-24-october-2023/
URL:https://draxparishcouncil.gov.uk/meetings/full-council-24-october-2023/
END:VEVENT
END:VCALENDAR
