BEGIN:VCALENDAR
VERSION:2.0
PRODID:-//Drax Parish Council//Meeting Calendar//EN
CALSCALE:GREGORIAN
METHOD:PUBLISH
BEGIN:VEVENT
UID:70494-2023-09-05@draxparishcouncil.gov.uk
DTSTAMP:20260419T174954Z
DTSTART;VALUE=DATE:2023-09-05
DTEND;VALUE=DATE:20230906
SUMMARY:Full Council — 5 September 2023
DESCRIPTION:Council Meeting\nView details: https://draxparishcouncil.gov.uk/meetings/full-council-5-september-2023/
URL:https://draxparishcouncil.gov.uk/meetings/full-council-5-september-2023/
END:VEVENT
END:VCALENDAR
