BEGIN:VCALENDAR
VERSION:2.0
PRODID:-//Drax Parish Council//Meeting Calendar//EN
CALSCALE:GREGORIAN
METHOD:PUBLISH
BEGIN:VEVENT
UID:70492-2023-05-30@draxparishcouncil.gov.uk
DTSTAMP:20260419T180247Z
DTSTART;VALUE=DATE:2023-05-30
DTEND;VALUE=DATE:20230531
SUMMARY:Full Council — 30 May 2023
DESCRIPTION:Council Meeting\nView details: https://draxparishcouncil.gov.uk/meetings/full-council-30-may-2023/
URL:https://draxparishcouncil.gov.uk/meetings/full-council-30-may-2023/
END:VEVENT
END:VCALENDAR
