BEGIN:VCALENDAR
VERSION:2.0
PRODID:-//Drax Parish Council//Meeting Calendar//EN
CALSCALE:GREGORIAN
METHOD:PUBLISH
BEGIN:VEVENT
UID:70491-2023-04-25@draxparishcouncil.gov.uk
DTSTAMP:20260419T193051Z
DTSTART;VALUE=DATE:2023-04-25
DTEND;VALUE=DATE:20230426
SUMMARY:Full Council — 25 April 2023
DESCRIPTION:Council Meeting\nView details: https://draxparishcouncil.gov.uk/meetings/full-council-25-april-2023/
URL:https://draxparishcouncil.gov.uk/meetings/full-council-25-april-2023/
END:VEVENT
END:VCALENDAR
