BEGIN:VCALENDAR
VERSION:2.0
PRODID:-//Drax Parish Council//Meeting Calendar//EN
CALSCALE:GREGORIAN
METHOD:PUBLISH
BEGIN:VEVENT
UID:70490-2023-03-14@draxparishcouncil.gov.uk
DTSTAMP:20260419T193143Z
DTSTART;VALUE=DATE:2023-03-14
DTEND;VALUE=DATE:20230315
SUMMARY:Full Council — 14 March 2023
DESCRIPTION:Council Meeting\nView details: https://draxparishcouncil.gov.uk/meetings/full-council-14-march-2023/
URL:https://draxparishcouncil.gov.uk/meetings/full-council-14-march-2023/
END:VEVENT
END:VCALENDAR
