BEGIN:VCALENDAR
VERSION:2.0
PRODID:-//Drax Parish Council//Meeting Calendar//EN
CALSCALE:GREGORIAN
METHOD:PUBLISH
BEGIN:VEVENT
UID:70489-2023-02-06@draxparishcouncil.gov.uk
DTSTAMP:20260419T193143Z
DTSTART;VALUE=DATE:2023-02-06
DTEND;VALUE=DATE:20230207
SUMMARY:Full Council — 6 February 2023
DESCRIPTION:Council Meeting\nView details: https://draxparishcouncil.gov.uk/meetings/full-council-6-february-2023/
URL:https://draxparishcouncil.gov.uk/meetings/full-council-6-february-2023/
END:VEVENT
END:VCALENDAR
