BEGIN:VCALENDAR
VERSION:2.0
PRODID:-//Drax Parish Council//Meeting Calendar//EN
CALSCALE:GREGORIAN
METHOD:PUBLISH
BEGIN:VEVENT
UID:70488-2023-01-03@draxparishcouncil.gov.uk
DTSTAMP:20260419T193101Z
DTSTART;VALUE=DATE:2023-01-03
DTEND;VALUE=DATE:20230104
SUMMARY:Full Council — 3 January 2023
DESCRIPTION:Council Meeting\nView details: https://draxparishcouncil.gov.uk/meetings/full-council-3-january-2023/
URL:https://draxparishcouncil.gov.uk/meetings/full-council-3-january-2023/
END:VEVENT
END:VCALENDAR
