BEGIN:VCALENDAR
VERSION:2.0
PRODID:-//Drax Parish Council//Meeting Calendar//EN
CALSCALE:GREGORIAN
METHOD:PUBLISH
BEGIN:VEVENT
UID:70486-2022-10-25@draxparishcouncil.gov.uk
DTSTAMP:20260419T211223Z
DTSTART;VALUE=DATE:2022-10-25
DTEND;VALUE=DATE:20221026
SUMMARY:Full Council — 25 October 2022
DESCRIPTION:Council Meeting\nView details: https://draxparishcouncil.gov.uk/meetings/full-council-25-october-2022/
URL:https://draxparishcouncil.gov.uk/meetings/full-council-25-october-2022/
END:VEVENT
END:VCALENDAR
