BEGIN:VCALENDAR
VERSION:2.0
PRODID:-//Drax Parish Council//Meeting Calendar//EN
CALSCALE:GREGORIAN
METHOD:PUBLISH
BEGIN:VEVENT
UID:70485-2022-08-09@draxparishcouncil.gov.uk
DTSTAMP:20260419T211255Z
DTSTART;VALUE=DATE:2022-08-09
DTEND;VALUE=DATE:20220810
SUMMARY:Full Council — 9 August 2022
DESCRIPTION:Council Meeting\nView details: https://draxparishcouncil.gov.uk/meetings/full-council-9-august-2022/
URL:https://draxparishcouncil.gov.uk/meetings/full-council-9-august-2022/
END:VEVENT
END:VCALENDAR
