BEGIN:VCALENDAR
VERSION:2.0
PRODID:-//Drax Parish Council//Meeting Calendar//EN
CALSCALE:GREGORIAN
METHOD:PUBLISH
BEGIN:VEVENT
UID:70484-2022-06-28@draxparishcouncil.gov.uk
DTSTAMP:20260419T211423Z
DTSTART;VALUE=DATE:2022-06-28
DTEND;VALUE=DATE:20220629
SUMMARY:Full Council — 28 June 2022
DESCRIPTION:Council Meeting\nView details: https://draxparishcouncil.gov.uk/meetings/full-council-28-june-2022/
URL:https://draxparishcouncil.gov.uk/meetings/full-council-28-june-2022/
END:VEVENT
END:VCALENDAR
