BEGIN:VCALENDAR
VERSION:2.0
PRODID:-//Drax Parish Council//Meeting Calendar//EN
CALSCALE:GREGORIAN
METHOD:PUBLISH
BEGIN:VEVENT
UID:70483-2022-05-17@draxparishcouncil.gov.uk
DTSTAMP:20260419T210915Z
DTSTART;VALUE=DATE:2022-05-17
DTEND;VALUE=DATE:20220518
SUMMARY:Annual Meeting of the Council — 17 May 2022
DESCRIPTION:Council Meeting\nView details: https://draxparishcouncil.gov.uk/meetings/annual-meeting-of-the-council-17-may-2022/
URL:https://draxparishcouncil.gov.uk/meetings/annual-meeting-of-the-council-17-may-2022/
END:VEVENT
END:VCALENDAR
