BEGIN:VCALENDAR
VERSION:2.0
PRODID:-//Drax Parish Council//Meeting Calendar//EN
CALSCALE:GREGORIAN
METHOD:PUBLISH
BEGIN:VEVENT
UID:70482-2022-04-26@draxparishcouncil.gov.uk
DTSTAMP:20260419T211717Z
DTSTART;VALUE=DATE:2022-04-26
DTEND;VALUE=DATE:20220427
SUMMARY:Full Council — 26 April 2022
DESCRIPTION:Council Meeting\nView details: https://draxparishcouncil.gov.uk/meetings/full-council-26-april-2022/
URL:https://draxparishcouncil.gov.uk/meetings/full-council-26-april-2022/
END:VEVENT
END:VCALENDAR
