BEGIN:VCALENDAR
VERSION:2.0
PRODID:-//Drax Parish Council//Meeting Calendar//EN
CALSCALE:GREGORIAN
METHOD:PUBLISH
BEGIN:VEVENT
UID:70480-2022-02-22@draxparishcouncil.gov.uk
DTSTAMP:20260419T210939Z
DTSTART;VALUE=DATE:2022-02-22
DTEND;VALUE=DATE:20220223
SUMMARY:Full Council — 22 February 2022
DESCRIPTION:Council Meeting\nView details: https://draxparishcouncil.gov.uk/meetings/full-council-22-february-2022/
URL:https://draxparishcouncil.gov.uk/meetings/full-council-22-february-2022/
END:VEVENT
END:VCALENDAR
