BEGIN:VCALENDAR
VERSION:2.0
PRODID:-//Drax Parish Council//Meeting Calendar//EN
CALSCALE:GREGORIAN
METHOD:PUBLISH
BEGIN:VEVENT
UID:70479-2022-01-18@draxparishcouncil.gov.uk
DTSTAMP:20260419T193239Z
DTSTART;VALUE=DATE:2022-01-18
DTEND;VALUE=DATE:20220119
SUMMARY:Full Council — 18 January 2022
DESCRIPTION:Council Meeting\nView details: https://draxparishcouncil.gov.uk/meetings/full-council-18-january-2022/
URL:https://draxparishcouncil.gov.uk/meetings/full-council-18-january-2022/
END:VEVENT
END:VCALENDAR
