BEGIN:VCALENDAR
VERSION:2.0
PRODID:-//Drax Parish Council//Meeting Calendar//EN
CALSCALE:GREGORIAN
METHOD:PUBLISH
BEGIN:VEVENT
UID:70478-2021-11-23@draxparishcouncil.gov.uk
DTSTAMP:20260419T193051Z
DTSTART;VALUE=DATE:2021-11-23
DTEND;VALUE=DATE:20211124
SUMMARY:Full Council — 23 November 2021
DESCRIPTION:Council Meeting\nView details: https://draxparishcouncil.gov.uk/meetings/full-council-23-november-2021/
URL:https://draxparishcouncil.gov.uk/meetings/full-council-23-november-2021/
END:VEVENT
END:VCALENDAR
