BEGIN:VCALENDAR
VERSION:2.0
PRODID:-//Drax Parish Council//Meeting Calendar//EN
CALSCALE:GREGORIAN
METHOD:PUBLISH
BEGIN:VEVENT
UID:70477-2021-10-20@draxparishcouncil.gov.uk
DTSTAMP:20260419T193101Z
DTSTART;VALUE=DATE:2021-10-20
DTEND;VALUE=DATE:20211021
SUMMARY:Full Council — 20 October 2021
DESCRIPTION:Council Meeting\nView details: https://draxparishcouncil.gov.uk/meetings/full-council-20-october-2021/
URL:https://draxparishcouncil.gov.uk/meetings/full-council-20-october-2021/
END:VEVENT
END:VCALENDAR
