BEGIN:VCALENDAR
VERSION:2.0
PRODID:-//Drax Parish Council//Meeting Calendar//EN
CALSCALE:GREGORIAN
METHOD:PUBLISH
BEGIN:VEVENT
UID:70476-2021-09-21@draxparishcouncil.gov.uk
DTSTAMP:20260419T194018Z
DTSTART;VALUE=DATE:2021-09-21
DTEND;VALUE=DATE:20210922
SUMMARY:Full Council — 21 September 2021
DESCRIPTION:Council Meeting\nView details: https://draxparishcouncil.gov.uk/meetings/full-council-21-september-2021/
URL:https://draxparishcouncil.gov.uk/meetings/full-council-21-september-2021/
END:VEVENT
END:VCALENDAR
